Workbook

Sheet All
C1: All divisions | D1: =Data!K334 -> 304 | E1: respondents
B5: In order to help us understand your instructional style, please use the sliders below to indicate where your instructional tendencies and preferences fall on these dimensions.
I7: Preference for lecture to deliver content
D8: Min | E8: Max | F8: Mean | G8: Median | I8: 0%-19% | J8: =Data!B315 -> 0.10384615 | K8: =J8 -> 0.10384615
C9: Preference for lecture to deliver content (select numbers closer to 0) | D9: =Data!B413 -> 0 | E9: =Data!B414 -> 100 | F9: =Data!B415 -> 55.196154 | G9: =Data!B416 -> 60 | I9: 20%-39% | J9: =Data!B316 -> 0.2 | K9: =J9 -> 0.2
C10: Preference for facilitated exploration of content (select numbers closer to 100) | I10: 40%-59% | J10: =Data!B317 -> 0.18461538 | K10: =J10 -> 0.18461538
I11: 60%-79% | J11: =Data!B318 -> 0.28076923 | K11: =J11 -> 0.28076923
I12: 80%-100% | J12: =Data!B319 -> 0.23076923 | K12: =J12 -> 0.23076923
I13: Preference for facilitated exploration of content
D16: Min | E16: Max | F16: Mean | G16: Median | I16: Prefer print materials
C17: Prefer print materials (select numbers closer to 0) | D17: =Data!C413 -> 0 | E17: =Data!C414 -> 100 | F17: =Data!C415 -> 51.607843 | G17: =Data!C416 -> 50 | I17: 0%-19% | J17: =Data!C315 -> 0.19215686 | K17: =J17 -> 0.19215686
C18: Prefer digital materials (select numbers closer to 100) | I18: 20%-39% | J18: =Data!C316 -> 0.19215686 | K18: =J18 -> 0.19215686
I19: 40%-59% | J19: =Data!C317 -> 0.15294118 | K19: =J19 -> 0.15294118
I20: 60%-79% | J20: =Data!C318 -> 0.21960784 | K20: =J20 -> 0.21960784
I21: 80%-100% | J21: =Data!C319 -> 0.24313725 | K21: =J21 -> 0.24313725
I22: Prefer digital materials
B26: Please let us know if you agree or disagree with the following.
D27: Strongly agree | E27: Agree | F27: Somewhat agree | G27: Neither | H27: Somewhat disagree | I27: Disagree | J27: Strongly disagree
C28: My students prefer print materials over digital | D28: =Data!D$337 -> 0.052980132 | E28: =Data!D$338 -> 0.16225166 | F28: =Data!D$339 -> 0.2218543 | G28: =Data!D$340 -> 0.29139073 | H28: =Data!D$341 -> 0.11258278 | I28: =Data!D$342 -> 0.12251656 | J28: =Data!D$343 -> 0.036423841
C29: The cost of the course materials is a serious problem for my students | D29: =Data!E$337 -> 0.3125 | E29: =Data!E$338 -> 0.27302632 | F29: =Data!E$339 -> 0.21052632 | G29: =Data!E$340 -> 0.098684211 | H29: =Data!E$341 -> 0.042763158 | I29: =Data!E$342 -> 0.036184211 | J29: =Data!E$343 -> 0.026315789
C30: There is a lack of high-quality course materials for the courses I teach | D30: =Data!F$337 -> 0.059405941 | E30: =Data!F$338 -> 0.095709571 | F30: =Data!F$339 -> 0.1320132 | G30: =Data!F$340 -> 0.15841584 | H30: =Data!F$341 -> 0.12541254 | I30: =Data!F$342 -> 0.27062706 | J30: =Data!F$343 -> 0.15841584
C31: The use of electronic devices in class by students is a distraction from learning | D31: =Data!G$337 -> 0.13245033 | E31: =Data!G$338 -> 0.12251656 | F31: =Data!G$339 -> 0.25165563 | G31: =Data!G$340 -> 0.16225166 | H31: =Data!G$341 -> 0.12913907 | I31: =Data!G$342 -> 0.13907285 | J31: =Data!G$343 -> 0.062913907
B34: Tenure | C34: N/A | D34: =Data!H337 -> 0.17333333 | E34: =D34 -> 0.17333333
C35: Tenured | D35: =Data!H338 -> 0.36 | E35: =D35 -> 0.36
C36: Tenure track, not tenured | D36: =Data!H339 -> 0.036666667 | E36: =D36 -> 0.036666667
C37: Not tenure track | D37: =Data!H340 -> 0.43 | E37: =D37 -> 0.43
D38: =SUM(D34:D37) -> 1
B40: Number of years teaching
C41: 0 to 5 | D41: =Data!I337 -> 0.17491749 | E41: =D41 -> 0.17491749
C42: 6 to 10 | D42: =Data!I338 -> 0.18811881 | E42: =D42 -> 0.18811881
C43: 11 to 15 | D43: =Data!I339 -> 0.19471947 | E43: =D43 -> 0.19471947
C44: 16 to 20 | D44: =Data!I340 -> 0.17491749 | E44: =D44 -> 0.17491749
C45: 21 to 25 | D45: =Data!I341 -> 0.082508251 | E45: =D45 -> 0.082508251
C46: 26+ | D46: =Data!I342 -> 0.18481848 | E46: =D46 -> 0.18481848
B48: Teaching status
C49: Part time | D49: =Data!J337 -> 0.59468439 | E49: =D49 -> 0.59468439
C50: Full time | D50: =Data!J338 -> 0.40531561 | E50: =D50 -> 0.40531561
B53: Division | D53: Count | E53: Percent
C54: Arts, communications, hospitality | D54: =Data!K323 -> 46 | E54: =Data!K337 -> 0.15181518 | F54: =E54 -> 0.15181518
C55: Business and applied technology | D55: =Data!K324 -> 42 | E55: =Data!K338 -> 0.13861386 | F55: =E55 -> 0.13861386
...

Sheet ACH
C1: Arts, communications, hospitality | D1: ='data-ach'!K332 -> 46 | E1: respondents
B5: In order to help us understand your instructional style, please use the sliders below to indicate where your instructional tendencies and preferences fall on these dimensions.
I7: Preference for lecture to deliver content
D8: Min | E8: Max | F8: Mean | G8: Median | I8: 0%-19% | J8: ='data-ach'!B315 -> 0.071428571 | K8: =J8 -> 0.071428571
C9: Preference for lecture to deliver content (select numbers closer to 0) | D9: ='data-ach'!B413 -> 0 | E9: ='data-ach'!B414 -> 100 | F9: ='data-ach'!B415 -> 54.761905 | G9: ='data-ach'!B416 -> 62.5 | I9: 20%-39% | J9: ='data-ach'!B316 -> 0.21428571 | K9: =J9 -> 0.21428571
C10: Preference for facilitated exploration of content (select numbers closer to 100) | I10: 40%-59% | J10: ='data-ach'!B317 -> 0.16666667 | K10: =J10 -> 0.16666667
I11: 60%-79% | J11: ='data-ach'!B318 -> 0.38095238 | K11: =J11 -> 0.38095238
I12: 80%-100% | J12: ='data-ach'!B319 -> 0.16666667 | K12: =J12 -> 0.16666667
I13: Preference for facilitated exploration of content
D16: Min | E16: Max | F16: Mean | G16: Median | I16: Prefer print materials
C17: Prefer print materials (select numbers closer to 0) | D17: ='data-ach'!C413 -> 0 | E17: ='data-ach'!C414 -> 100 | F17: ='data-ach'!C415 -> 53.341463 | G17: ='data-ach'!C416 -> 51 | I17: 0%-19% | J17: ='data-ach'!C315 -> 0.19512195 | K17: =J17 -> 0.19512195
C18: Prefer digital materials (select numbers closer to 100) | I18: 20%-39% | J18: ='data-ach'!C316 -> 0.14634146 | K18: =J18 -> 0.14634146
I19: 40%-59% | J19: ='data-ach'!C317 -> 0.19512195 | K19: =J19 -> 0.19512195
I20: 60%-79% | J20: ='data-ach'!C318 -> 0.19512195 | K20: =J20 -> 0.19512195
I21: 80%-100% | J21: ='data-ach'!C319 -> 0.26829268 | K21: =J21 -> 0.26829268
I22: Prefer digital materials
B26: Please let us know if you agree or disagree with the following.
D27: Strongly agree | E27: Agree | F27: Somewhat agree | G27: Neither | H27: Somewhat disagree | I27: Disagree | J27: Strongly disagree
C28: My students prefer print materials over digital | D28: ='data-ach'!D$337 -> 0.086956522 | E28: ='data-ach'!D$338 -> 0.10869565 | F28: ='data-ach'!D$339 -> 0.15217391 | G28: ='data-ach'!D$340 -> 0.2826087 | H28: ='data-ach'!D$341 -> 0.15217391 | I28: ='data-ach'!D$342 -> 0.13043478 | J28: ='data-ach'!D$343 -> 0.086956522
C29: The cost of the course materials is a serious problem for my students | D29: ='data-ach'!E$337 -> 0.2173913 | E29: ='data-ach'!E$338 -> 0.30434783 | F29: ='data-ach'!E$339 -> 0.23913043 | G29: ='data-ach'!E$340 -> 0.10869565 | H29: ='data-ach'!E$341 -> 0 | I29: ='data-ach'!E$342 -> 0.043478261 | J29: ='data-ach'!E$343 -> 0.086956522
C30: There is a lack of high-quality course materials for the courses I teach | D30: ='data-ach'!F$337 -> 0.065217391 | E30: ='data-ach'!F$338 -> 0.043478261 | F30: ='data-ach'!F$339 -> 0.13043478 | G30: ='data-ach'!F$340 -> 0.13043478 | H30: ='data-ach'!F$341 -> 0.10869565 | I30: ='data-ach'!F$342 -> 0.34782609 | J30: ='data-ach'!F$343 -> 0.17391304
C31: The use of electronic devices in class by students is a distraction from learning | D31: ='data-ach'!G$337 -> 0.13043478 | E31: ='data-ach'!G$338 -> 0.15217391 | F31: ='data-ach'!G$339 -> 0.30434783 | G31: ='data-ach'!G$340 -> 0.086956522 | H31: ='data-ach'!G$341 -> 0.10869565 | I31: ='data-ach'!G$342 -> 0.10869565 | J31: ='data-ach'!G$343 -> 0.10869565
B34: Tenure | C34: N/A | D34: ='data-ach'!H337 -> 0.2173913 | E34: =D34 -> 0.2173913
C35: Tenured | D35: ='data-ach'!H338 -> 0.2826087 | E35: =D35 -> 0.2826087
C36: Tenure track, not tenured | D36: ='data-ach'!H339 -> 0.043478261 | E36: =D36 -> 0.043478261
C37: Not tenure track | D37: ='data-ach'!H340 -> 0.45652174 | E37: =D37 -> 0.45652174
D38: =SUM(D34:D37) -> 1
B40: Number of years teaching
C41: 0 to 5 | D41: ='data-ach'!I337 -> 0.17391304 | E41: =D41 -> 0.17391304
C42: 6 to 10 | D42: ='data-ach'!I338 -> 0.19565217 | E42: =D42 -> 0.19565217
C43: 11 to 15 | D43: ='data-ach'!I339 -> 0.17391304 | E43: =D43 -> 0.17391304
C44: 16 to 20 | D44: ='data-ach'!I340 -> 0.19565217 | E44: =D44 -> 0.19565217
C45: 21 to 25 | D45: ='data-ach'!I341 -> 0.065217391 | E45: =D45 -> 0.065217391
C46: 26+ | D46: ='data-ach'!I342 -> 0.19565217 | E46: =D46 -> 0.19565217
B48: Teaching status
C49: Part time | D49: ='data-ach'!J337 -> 0.65217391 | E49: =D49 -> 0.65217391
C50: Full time | D50: ='data-ach'!J338 -> 0.34782609 | E50: =D50 -> 0.34782609
B53: Division | D53: Count | E53: Percent
C54: Arts, communications, hospitality | D54: ='data-ach'!K323 -> 46 | E54: ='data-ach'!K337 -> 1 | F54: =E54 -> 1
C55: Business and applied technology | D55: ='data-ach'!K324 -> 0 | E55: ='data-ach'!K338 -> 0 | F55: =E55 -> 0
...

Sheet BAT
C1: Business and applied technology | D1: ='data-bat'!K332 -> 42 | E1: respondents
B5: In order to help us understand your instructional style, please use the sliders below to indicate where your instructional tendencies and preferences fall on these dimensions.
I7: Preference for lecture to deliver content
D8: Min | E8: Max | F8: Mean | G8: Median | I8: 0%-19% | J8: ='data-bat'!B315 -> 0.18181818 | K8: =J8 -> 0.18181818
C9: Preference for lecture to deliver content (select numbers closer to 0) | D9: ='data-bat'!B413 -> 1 | E9: ='data-bat'!B414 -> 100 | F9: ='data-bat'!B415 -> 52 | G9: ='data-bat'!B416 -> 60 | I9: 20%-39% | J9: ='data-bat'!B316 -> 0.060606061 | K9: =J9 -> 0.060606061
C10: Preference for facilitated exploration of content (select numbers closer to 100) | I10: 40%-59% | J10: ='data-bat'!B317 -> 0.24242424 | K10: =J10 -> 0.24242424
I11: 60%-79% | J11: ='data-bat'!B318 -> 0.39393939 | K11: =J11 -> 0.39393939
I12: 80%-100% | J12: ='data-bat'!B319 -> 0.12121212 | K12: =J12 -> 0.12121212
I13: Preference for facilitated exploration of content
D16: Min | E16: Max | F16: Mean | G16: Median | I16: Prefer print materials
C17: Prefer print materials (select numbers closer to 0) | D17: ='data-bat'!C413 -> 0 | E17: ='data-bat'!C414 -> 100 | F17: ='data-bat'!C415 -> 54.638889 | G17: ='data-bat'!C416 -> 68 | I17: 0%-19% | J17: ='data-bat'!C315 -> 0.22222222 | K17: =J17 -> 0.22222222
C18: Prefer digital materials (select numbers closer to 100) | I18: 20%-39% | J18: ='data-bat'!C316 -> 0.13888889 | K18: =J18 -> 0.13888889
I19: 40%-59% | J19: ='data-bat'!C317 -> 0.055555556 | K19: =J19 -> 0.055555556
I20: 60%-79% | J20: ='data-bat'!C318 -> 0.30555556 | K20: =J20 -> 0.30555556
I21: 80%-100% | J21: ='data-bat'!C319 -> 0.27777778 | K21: =J21 -> 0.27777778
I22: Prefer digital materials
B26: Please let us know if you agree or disagree with the following.
D27: Strongly agree | E27: Agree | F27: Somewhat agree | G27: Neither | H27: Somewhat disagree | I27: Disagree | J27: Strongly disagree
C28: My students prefer print materials over digital | D28: ='data-bat'!D$337 -> 0.11904762 | E28: ='data-bat'!D$338 -> 0.16666667 | F28: ='data-bat'!D$339 -> 0.11904762 | G28: ='data-bat'!D$340 -> 0.26190476 | H28: ='data-bat'!D$341 -> 0.071428571 | I28: ='data-bat'!D$342 -> 0.23809524 | J28: ='data-bat'!D$343 -> 0.023809524
C29: The cost of the course materials is a serious problem for my students | D29: ='data-bat'!E$337 -> 0.26190476 | E29: ='data-bat'!E$338 -> 0.26190476 | F29: ='data-bat'!E$339 -> 0.33333333 | G29: ='data-bat'!E$340 -> 0.071428571 | H29: ='data-bat'!E$341 -> 0.023809524 | I29: ='data-bat'!E$342 -> 0.047619048 | J29: ='data-bat'!E$343 -> 0
C30: There is a lack of high-quality course materials for the courses I teach | D30: ='data-bat'!F$337 -> 0.11904762 | E30: ='data-bat'!F$338 -> 0.19047619 | F30: ='data-bat'!F$339 -> 0.23809524 | G30: ='data-bat'!F$340 -> 0.095238095 | H30: ='data-bat'!F$341 -> 0.071428571 | I30: ='data-bat'!F$342 -> 0.21428571 | J30: ='data-bat'!F$343 -> 0.071428571
C31: The use of electronic devices in class by students is a distraction from learning | D31: ='data-bat'!G$337 -> 0.048780488 | E31: ='data-bat'!G$338 -> 0.048780488 | F31: ='data-bat'!G$339 -> 0.24390244 | G31: ='data-bat'!G$340 -> 0.19512195 | H31: ='data-bat'!G$341 -> 0.26829268 | I31: ='data-bat'!G$342 -> 0.14634146 | J31: ='data-bat'!G$343 -> 0.048780488
B34: Tenure | C34: N/A | D34: ='data-bat'!H337 -> 0.34146341 | E34: =D34 -> 0.34146341
C35: Tenured | D35: ='data-bat'!H338 -> 0.34146341 | E35: =D35 -> 0.34146341
C36: Tenure track, not tenured | D36: ='data-bat'!H339 -> 0 | E36: =D36 -> 0
C37: Not tenure track | D37: ='data-bat'!H340 -> 0.31707317 | E37: =D37 -> 0.31707317
D38: =SUM(D34:D37) -> 1
B40: Number of years teaching
C41: 0 to 5 | D41: ='data-bat'!I337 -> 0.16666667 | E41: =D41 -> 0.16666667
C42: 6 to 10 | D42: ='data-bat'!I338 -> 0.11904762 | E42: =D42 -> 0.11904762
C43: 11 to 15 | D43: ='data-bat'!I339 -> 0.21428571 | E43: =D43 -> 0.21428571
C44: 16 to 20 | D44: ='data-bat'!I340 -> 0.21428571 | E44: =D44 -> 0.21428571
C45: 21 to 25 | D45: ='data-bat'!I341 -> 0.11904762 | E45: =D45 -> 0.11904762
C46: 26+ | D46: ='data-bat'!I342 -> 0.16666667 | E46: =D46 -> 0.16666667
B48: Teaching status
C49: Part time | D49: ='data-bat'!J337 -> 0.63414634 | E49: =D49 -> 0.63414634
C50: Full time | D50: ='data-bat'!J338 -> 0.36585366 | E50: =D50 -> 0.36585366
B53: Division | D53: Count | E53: Percent
C54: Arts, communications, hospitality | D54: ='data-bat'!K323 -> 0 | E54: ='data-bat'!K337 -> 0 | F54: =E54 -> 0
C55: Business and applied technology | D55: ='data-bat'!K324 -> 42 | E55: ='data-bat'!K338 -> 1 | F55: =E55 -> 1
...

Sheet CEPS
C1: Continuing education and public services | D1: ='data-ceps'!K332 -> 6 | E1: respondents
B5: In order to help us understand your instructional style, please use the sliders below to indicate where your instructional tendencies and preferences fall on these dimensions.
I7: Preference for lecture to deliver content
D8: Min | E8: Max | F8: Mean | G8: Median | I8: 0%-19% | J8: ='data-ceps'!B315 -> 0.66666667 | K8: =J8 -> 0.66666667
C9: Preference for lecture to deliver content (select numbers closer to 0) | D9: ='data-ceps'!B413 -> 15 | E9: ='data-ceps'!B414 -> 36 | F9: ='data-ceps'!B415 -> 22.666667 | G9: ='data-ceps'!B416 -> 17 | I9: 20%-39% | J9: ='data-ceps'!B316 -> 0.33333333 | K9: =J9 -> 0.33333333
C10: Preference for facilitated exploration of content (select numbers closer to 100) | I10: 40%-59% | J10: ='data-ceps'!B317 -> 0 | K10: =J10 -> 0
I11: 60%-79% | J11: ='data-ceps'!B318 -> 0 | K11: =J11 -> 0
I12: 80%-100% | J12: ='data-ceps'!B319 -> 0 | K12: =J12 -> 0
I13: Preference for facilitated exploration of content
D16: Min | E16: Max | F16: Mean | G16: Median | I16: Prefer print materials
C17: Prefer print materials (select numbers closer to 0) | D17: ='data-ceps'!C413 -> 18 | E17: ='data-ceps'!C414 -> 50 | F17: ='data-ceps'!C415 -> 35 | G17: ='data-ceps'!C416 -> 36 | I17: 0%-19% | J17: ='data-ceps'!C315 -> 0.25 | K17: =J17 -> 0.25
C18: Prefer digital materials (select numbers closer to 100) | I18: 20%-39% | J18: ='data-ceps'!C316 -> 0.5 | K18: =J18 -> 0.5
I19: 40%-59% | J19: ='data-ceps'!C317 -> 0.25 | K19: =J19 -> 0.25
I20: 60%-79% | J20: ='data-ceps'!C318 -> 0 | K20: =J20 -> 0
I21: 80%-100% | J21: ='data-ceps'!C319 -> 0 | K21: =J21 -> 0
I22: Prefer digital materials
B26: Please let us know if you agree or disagree with the following.
D27: Strongly agree | E27: Agree | F27: Somewhat agree | G27: Neither | H27: Somewhat disagree | I27: Disagree | J27: Strongly disagree
C28: My students prefer print materials over digital | D28: ='data-ceps'!D$337 -> 0.16666667 | E28: ='data-ceps'!D$338 -> 0.33333333 | F28: ='data-ceps'!D$339 -> 0.33333333 | G28: ='data-ceps'!D$340 -> 0.16666667 | H28: ='data-ceps'!D$341 -> 0 | I28: ='data-ceps'!D$342 -> 0 | J28: ='data-ceps'!D$343 -> 0
C29: The cost of the course materials is a serious problem for my students | D29: ='data-ceps'!E$337 -> 0.33333333 | E29: ='data-ceps'!E$338 -> 0.33333333 | F29: ='data-ceps'!E$339 -> 0.16666667 | G29: ='data-ceps'!E$340 -> 0.16666667 | H29: ='data-ceps'!E$341 -> 0 | I29: ='data-ceps'!E$342 -> 0 | J29: ='data-ceps'!E$343 -> 0
C30: There is a lack of high-quality course materials for the courses I teach | D30: ='data-ceps'!F$337 -> 0 | E30: ='data-ceps'!F$338 -> 0 | F30: ='data-ceps'!F$339 -> 0.16666667 | G30: ='data-ceps'!F$340 -> 0.16666667 | H30: ='data-ceps'!F$341 -> 0.16666667 | I30: ='data-ceps'!F$342 -> 0.5 | J30: ='data-ceps'!F$343 -> 0
C31: The use of electronic devices in class by students is a distraction from learning | D31: ='data-ceps'!G$337 -> 0 | E31: ='data-ceps'!G$338 -> 0.16666667 | F31: ='data-ceps'!G$339 -> 0.33333333 | G31: ='data-ceps'!G$340 -> 0.16666667 | H31: ='data-ceps'!G$341 -> 0.16666667 | I31: ='data-ceps'!G$342 -> 0.16666667 | J31: ='data-ceps'!G$343 -> 0
B34: Tenure | C34: N/A | D34: ='data-ceps'!H337 -> 0.33333333 | E34: =D34 -> 0.33333333
C35: Tenured | D35: ='data-ceps'!H338 -> 0 | E35: =D35 -> 0
C36: Tenure track, not tenured | D36: ='data-ceps'!H339 -> 0 | E36: =D36 -> 0
C37: Not tenure track | D37: ='data-ceps'!H340 -> 0.66666667 | E37: =D37 -> 0.66666667
D38: =SUM(D34:D37) -> 1
B40: Number of years teaching
C41: 0 to 5 | D41: ='data-ceps'!I337 -> 0 | E41: =D41 -> 0
C42: 6 to 10 | D42: ='data-ceps'!I338 -> 0.16666667 | E42: =D42 -> 0.16666667
C43: 11 to 15 | D43: ='data-ceps'!I339 -> 0.66666667 | E43: =D43 -> 0.66666667
C44: 16 to 20 | D44: ='data-ceps'!I340 -> 0.16666667 | E44: =D44 -> 0.16666667
C45: 21 to 25 | D45: ='data-ceps'!I341 -> 0 | E45: =D45 -> 0
C46: 26+ | D46: ='data-ceps'!I342 -> 0 | E46: =D46 -> 0
B48: Teaching status
C49: Part time | D49: ='data-ceps'!J337 -> 1 | E49: =D49 -> 1
C50: Full time | D50: ='data-ceps'!J338 -> 0 | E50: =D50 -> 0
B53: Division | D53: Count | E53: Percent
C54: Arts, communications, hospitality | D54: ='data-ceps'!K323 -> 0 | E54: ='data-ceps'!K337 -> 0 | F54: =E54 -> 0
C55: Business and applied technology | D55: ='data-ceps'!K324 -> 0 | E55: ='data-ceps'!K338 -> 0 | F55: =E55 -> 0
...

Sheet LA
C1: Liberal arts | D1: ='data-la'!K332 -> 74 | E1: respondents
B5: In order to help us understand your instructional style, please use the sliders below to indicate where your instructional tendencies and preferences fall on these dimensions.
I7: Preference for lecture to deliver content
D8: Min | E8: Max | F8: Mean | G8: Median | I8: 0%-19% | J8: ='data-la'!B315 -> 0.015625 | K8: =J8 -> 0.015625
C9: Preference for lecture to deliver content (select numbers closer to 0) | D9: ='data-la'!B413 -> 17 | E9: ='data-la'!B414 -> 100 | F9: ='data-la'!B415 -> 70.3125 | G9: ='data-la'!B416 -> 75.5 | I9: 20%-39% | J9: ='data-la'!B316 -> 0.09375 | K9: =J9 -> 0.09375
C10: Preference for facilitated exploration of content (select numbers closer to 100) | I10: 40%-59% | J10: ='data-la'!B317 -> 0.140625 | K10: =J10 -> 0.140625
I11: 60%-79% | J11: ='data-la'!B318 -> 0.3125 | K11: =J11 -> 0.3125
I12: 80%-100% | J12: ='data-la'!B319 -> 0.4375 | K12: =J12 -> 0.4375
I13: Preference for facilitated exploration of content
D16: Min | E16: Max | F16: Mean | G16: Median | I16: Prefer print materials
C17: Prefer print materials (select numbers closer to 0) | D17: ='data-la'!C413 -> 0 | E17: ='data-la'!C414 -> 100 | F17: ='data-la'!C415 -> 50.491525 | G17: ='data-la'!C416 -> 50 | I17: 0%-19% | J17: ='data-la'!C315 -> 0.15254237 | K17: =J17 -> 0.15254237
C18: Prefer digital materials (select numbers closer to 100) | I18: 20%-39% | J18: ='data-la'!C316 -> 0.27118644 | K18: =J18 -> 0.27118644
I19: 40%-59% | J19: ='data-la'!C317 -> 0.15254237 | K19: =J19 -> 0.15254237
I20: 60%-79% | J20: ='data-la'!C318 -> 0.22033898 | K20: =J20 -> 0.22033898
I21: 80%-100% | J21: ='data-la'!C319 -> 0.20338983 | K21: =J21 -> 0.20338983
I22: Prefer digital materials
B26: Please let us know if you agree or disagree with the following.
D27: Strongly agree | E27: Agree | F27: Somewhat agree | G27: Neither | H27: Somewhat disagree | I27: Disagree | J27: Strongly disagree
C28: My students prefer print materials over digital | D28: ='data-la'!D$337 -> 0.027027027 | E28: ='data-la'!D$338 -> 0.21621622 | F28: ='data-la'!D$339 -> 0.27027027 | G28: ='data-la'!D$340 -> 0.22972973 | H28: ='data-la'!D$341 -> 0.067567568 | I28: ='data-la'!D$342 -> 0.16216216 | J28: ='data-la'!D$343 -> 0.027027027
C29: The cost of the course materials is a serious problem for my students | D29: ='data-la'!E$337 -> 0.39189189 | E29: ='data-la'!E$338 -> 0.28378378 | F29: ='data-la'!E$339 -> 0.12162162 | G29: ='data-la'!E$340 -> 0.10810811 | H29: ='data-la'!E$341 -> 0.027027027 | I29: ='data-la'!E$342 -> 0.040540541 | J29: ='data-la'!E$343 -> 0.027027027
C30: There is a lack of high-quality course materials for the courses I teach | D30: ='data-la'!F$337 -> 0.067567568 | E30: ='data-la'!F$338 -> 0.13513514 | F30: ='data-la'!F$339 -> 0.13513514 | G30: ='data-la'!F$340 -> 0.18918919 | H30: ='data-la'!F$341 -> 0.12162162 | I30: ='data-la'!F$342 -> 0.17567568 | J30: ='data-la'!F$343 -> 0.17567568
C31: The use of electronic devices in class by students is a distraction from learning | D31: ='data-la'!G$337 -> 0.16216216 | E31: ='data-la'!G$338 -> 0.16216216 | F31: ='data-la'!G$339 -> 0.24324324 | G31: ='data-la'!G$340 -> 0.10810811 | H31: ='data-la'!G$341 -> 0.094594595 | I31: ='data-la'!G$342 -> 0.16216216 | J31: ='data-la'!G$343 -> 0.067567568
B34: Tenure | C34: N/A | D34: ='data-la'!H337 -> 0.15068493 | E34: =D34 -> 0.15068493
C35: Tenured | D35: ='data-la'!H338 -> 0.26027397 | E35: =D35 -> 0.26027397
C36: Tenure track, not tenured | D36: ='data-la'!H339 -> 0.054794521 | E36: =D36 -> 0.054794521
C37: Not tenure track | D37: ='data-la'!H340 -> 0.53424658 | E37: =D37 -> 0.53424658
D38: =SUM(D34:D37) -> 1
B40: Number of years teaching
C41: 0 to 5 | D41: ='data-la'!I337 -> 0.094594595 | E41: =D41 -> 0.094594595
C42: 6 to 10 | D42: ='data-la'!I338 -> 0.17567568 | E42: =D42 -> 0.17567568
C43: 11 to 15 | D43: ='data-la'!I339 -> 0.21621622 | E43: =D43 -> 0.21621622
C44: 16 to 20 | D44: ='data-la'!I340 -> 0.14864865 | E44: =D44 -> 0.14864865
C45: 21 to 25 | D45: ='data-la'!I341 -> 0.094594595 | E45: =D45 -> 0.094594595
C46: 26+ | D46: ='data-la'!I342 -> 0.27027027 | E46: =D46 -> 0.27027027
B48: Teaching status
C49: Part time | D49: ='data-la'!J337 -> 0.65753425 | E49: =D49 -> 0.65753425
C50: Full time | D50: ='data-la'!J338 -> 0.34246575 | E50: =D50 -> 0.34246575
B53: Division | D53: Count | E53: Percent
C54: Arts, communications, hospitality | D54: ='data-la'!K323 -> 0 | E54: ='data-la'!K337 -> 0 | F54: =E54 -> 0
C55: Business and applied technology | D55: ='data-la'!K324 -> 0 | E55: ='data-la'!K338 -> 0 | F55: =E55 -> 0
...

Sheet NHS
C1: Health sciences | D1: ='data-nhs'!K332 -> 27 | E1: respondents
B5: In order to help us understand your instructional style, please use the sliders below to indicate where your instructional tendencies and preferences fall on these dimensions.
I7: Preference for lecture to deliver content
D8: Min | E8: Max | F8: Mean | G8: Median | I8: 0%-19% | J8: ='data-nhs'!B315 -> 0.047619048 | K8: =J8 -> 0.047619048
C9: Preference for lecture to deliver content (select numbers closer to 0) | D9: ='data-nhs'!B413 -> 0 | E9: ='data-nhs'!B414 -> 100 | F9: ='data-nhs'!B415 -> 54.571429 | G9: ='data-nhs'!B416 -> 50 | I9: 20%-39% | J9: ='data-nhs'!B316 -> 0.28571429 | K9: =J9 -> 0.28571429
C10: Preference for facilitated exploration of content (select numbers closer to 100) | I10: 40%-59% | J10: ='data-nhs'!B317 -> 0.19047619 | K10: =J10 -> 0.19047619
I11: 60%-79% | J11: ='data-nhs'!B318 -> 0.23809524 | K11: =J11 -> 0.23809524
I12: 80%-100% | J12: ='data-nhs'!B319 -> 0.23809524 | K12: =J12 -> 0.23809524
I13: Preference for facilitated exploration of content
D16: Min | E16: Max | F16: Mean | G16: Median | I16: Prefer print materials
C17: Prefer print materials (select numbers closer to 0) | D17: ='data-nhs'!C413 -> 0 | E17: ='data-nhs'!C414 -> 100 | F17: ='data-nhs'!C415 -> 58.038462 | G17: ='data-nhs'!C416 -> 69.5 | I17: 0%-19% | J17: ='data-nhs'!C315 -> 0.11538462 | K17: =J17 -> 0.11538462
C18: Prefer digital materials (select numbers closer to 100) | I18: 20%-39% | J18: ='data-nhs'!C316 -> 0.23076923 | K18: =J18 -> 0.23076923
I19: 40%-59% | J19: ='data-nhs'!C317 -> 0.11538462 | K19: =J19 -> 0.11538462
I20: 60%-79% | J20: ='data-nhs'!C318 -> 0.26923077 | K20: =J20 -> 0.26923077
I21: 80%-100% | J21: ='data-nhs'!C319 -> 0.26923077 | K21: =J21 -> 0.26923077
I22: Prefer digital materials
B26: Please let us know if you agree or disagree with the following.
D27: Strongly agree | E27: Agree | F27: Somewhat agree | G27: Neither | H27: Somewhat disagree | I27: Disagree | J27: Strongly disagree
C28: My students prefer print materials over digital | D28: ='data-nhs'!D$337 -> 0 | E28: ='data-nhs'!D$338 -> 0.14814815 | F28: ='data-nhs'!D$339 -> 0.22222222 | G28: ='data-nhs'!D$340 -> 0.37037037 | H28: ='data-nhs'!D$341 -> 0.14814815 | I28: ='data-nhs'!D$342 -> 0.11111111 | J28: ='data-nhs'!D$343 -> 0
C29: The cost of the course materials is a serious problem for my students | D29: ='data-nhs'!E$337 -> 0.14814815 | E29: ='data-nhs'!E$338 -> 0.22222222 | F29: ='data-nhs'!E$339 -> 0.22222222 | G29: ='data-nhs'!E$340 -> 0.22222222 | H29: ='data-nhs'!E$341 -> 0.074074074 | I29: ='data-nhs'!E$342 -> 0.11111111 | J29: ='data-nhs'!E$343 -> 0
C30: There is a lack of high-quality course materials for the courses I teach | D30: ='data-nhs'!F$337 -> 0.11111111 | E30: ='data-nhs'!F$338 -> 0.037037037 | F30: ='data-nhs'!F$339 -> 0.14814815 | G30: ='data-nhs'!F$340 -> 0.074074074 | H30: ='data-nhs'!F$341 -> 0.074074074 | I30: ='data-nhs'!F$342 -> 0.2962963 | J30: ='data-nhs'!F$343 -> 0.25925926
C31: The use of electronic devices in class by students is a distraction from learning | D31: ='data-nhs'!G$337 -> 0.074074074 | E31: ='data-nhs'!G$338 -> 0.074074074 | F31: ='data-nhs'!G$339 -> 0.18518519 | G31: ='data-nhs'!G$340 -> 0.2962963 | H31: ='data-nhs'!G$341 -> 0.037037037 | I31: ='data-nhs'!G$342 -> 0.25925926 | J31: ='data-nhs'!G$343 -> 0.074074074
B34: Tenure | C34: N/A | D34: ='data-nhs'!H337 -> 0.11538462 | E34: =D34 -> 0.11538462
C35: Tenured | D35: ='data-nhs'!H338 -> 0.5 | E35: =D35 -> 0.5
C36: Tenure track, not tenured | D36: ='data-nhs'!H339 -> 0.076923077 | E36: =D36 -> 0.076923077
C37: Not tenure track | D37: ='data-nhs'!H340 -> 0.30769231 | E37: =D37 -> 0.30769231
D38: =SUM(D34:D37) -> 1
B40: Number of years teaching
C41: 0 to 5 | D41: ='data-nhs'!I337 -> 0.34615385 | E41: =D41 -> 0.34615385
C42: 6 to 10 | D42: ='data-nhs'!I338 -> 0.34615385 | E42: =D42 -> 0.34615385
C43: 11 to 15 | D43: ='data-nhs'!I339 -> 0.076923077 | E43: =D43 -> 0.076923077
C44: 16 to 20 | D44: ='data-nhs'!I340 -> 0.19230769 | E44: =D44 -> 0.19230769
C45: 21 to 25 | D45: ='data-nhs'!I341 -> 0.038461538 | E45: =D45 -> 0.038461538
C46: 26+ | D46: ='data-nhs'!I342 -> 0 | E46: =D46 -> 0
B48: Teaching status
C49: Part time | D49: ='data-nhs'!J337 -> 0.46153846 | E49: =D49 -> 0.46153846
C50: Full time | D50: ='data-nhs'!J338 -> 0.53846154 | E50: =D50 -> 0.53846154
B53: Division | D53: Count | E53: Percent
C54: Arts, communications, hospitality | D54: ='data-nhs'!K323 -> 0 | E54: ='data-nhs'!K337 -> 0 | F54: =E54 -> 0
C55: Business and applied technology | D55: ='data-nhs'!K324 -> 0 | E55: ='data-nhs'!K338 -> 0 | F55: =E55 -> 0
...

Sheet STEM
C1: STEM | D1: ='data-stem'!K332 -> 65 | E1: respondents
B5: In order to help us understand your instructional style, please use the sliders below to indicate where your instructional tendencies and preferences fall on these dimensions.
I7: Preference for lecture to deliver content
D8: Min | E8: Max | F8: Mean | G8: Median | I8: 0%-19% | J8: ='data-stem'!B315 -> 0.21052632 | K8: =J8 -> 0.21052632
C9: Preference for lecture to deliver content (select numbers closer to 0) | D9: ='data-stem'!B413 -> 0 | E9: ='data-stem'!B414 -> 83 | F9: ='data-stem'!B415 -> 38.491228 | G9: ='data-stem'!B416 -> 35 | I9: 20%-39% | J9: ='data-stem'!B316 -> 0.33333333 | K9: =J9 -> 0.33333333
C10: Preference for facilitated exploration of content (select numbers closer to 100) | I10: 40%-59% | J10: ='data-stem'!B317 -> 0.21052632 | K10: =J10 -> 0.21052632
I11: 60%-79% | J11: ='data-stem'!B318 -> 0.22807018 | K11: =J11 -> 0.22807018
I12: 80%-100% | J12: ='data-stem'!B319 -> 0.01754386 | K12: =J12 -> 0.01754386
I13: Preference for facilitated exploration of content
D16: Min | E16: Max | F16: Mean | G16: Median | I16: Prefer print materials
C17: Prefer print materials (select numbers closer to 0) | D17: ='data-stem'!C413 -> 0 | E17: ='data-stem'!C414 -> 98 | F17: ='data-stem'!C415 -> 44.137255 | G17: ='data-stem'!C416 -> 44 | I17: 0%-19% | J17: ='data-stem'!C315 -> 0.29411765 | K17: =J17 -> 0.29411765
C18: Prefer digital materials (select numbers closer to 100) | I18: 20%-39% | J18: ='data-stem'!C316 -> 0.15686275 | K18: =J18 -> 0.15686275
I19: 40%-59% | J19: ='data-stem'!C317 -> 0.11764706 | K19: =J19 -> 0.11764706
I20: 60%-79% | J20: ='data-stem'!C318 -> 0.21568627 | K20: =J20 -> 0.21568627
I21: 80%-100% | J21: ='data-stem'!C319 -> 0.21568627 | K21: =J21 -> 0.21568627
I22: Prefer digital materials
B26: Please let us know if you agree or disagree with the following.
D27: Strongly agree | E27: Agree | F27: Somewhat agree | G27: Neither | H27: Somewhat disagree | I27: Disagree | J27: Strongly disagree
C28: My students prefer print materials over digital | D28: ='data-stem'!D$337 -> 0.031746032 | E28: ='data-stem'!D$338 -> 0.14285714 | F28: ='data-stem'!D$339 -> 0.19047619 | G28: ='data-stem'!D$340 -> 0.36507937 | H28: ='data-stem'!D$341 -> 0.14285714 | I28: ='data-stem'!D$342 -> 0.095238095 | J28: ='data-stem'!D$343 -> 0.031746032
C29: The cost of the course materials is a serious problem for my students | D29: ='data-stem'!E$337 -> 0.26153846 | E29: ='data-stem'!E$338 -> 0.27692308 | F29: ='data-stem'!E$339 -> 0.24615385 | G29: ='data-stem'!E$340 -> 0.076923077 | H29: ='data-stem'!E$341 -> 0.092307692 | I29: ='data-stem'!E$342 -> 0.015384615 | J29: ='data-stem'!E$343 -> 0.030769231
C30: There is a lack of high-quality course materials for the courses I teach | D30: ='data-stem'!F$337 -> 0.03125 | E30: ='data-stem'!F$338 -> 0.0625 | F30: ='data-stem'!F$339 -> 0.0625 | G30: ='data-stem'!F$340 -> 0.140625 | H30: ='data-stem'!F$341 -> 0.203125 | I30: ='data-stem'!F$342 -> 0.296875 | J30: ='data-stem'!F$343 -> 0.203125
C31: The use of electronic devices in class by students is a distraction from learning | D31: ='data-stem'!G$337 -> 0.203125 | E31: ='data-stem'!G$338 -> 0.078125 | F31: ='data-stem'!G$339 -> 0.28125 | G31: ='data-stem'!G$340 -> 0.203125 | H31: ='data-stem'!G$341 -> 0.09375 | I31: ='data-stem'!G$342 -> 0.140625 | J31: ='data-stem'!G$343 -> 0
B34: Tenure | C34: N/A | D34: ='data-stem'!H337 -> 0.171875 | E34: =D34 -> 0.171875
C35: Tenured | D35: ='data-stem'!H338 -> 0.390625 | E35: =D35 -> 0.390625
C36: Tenure track, not tenured | D36: ='data-stem'!H339 -> 0 | E36: =D36 -> 0
C37: Not tenure track | D37: ='data-stem'!H340 -> 0.4375 | E37: =D37 -> 0.4375
D38: =SUM(D34:D37) -> 1
B40: Number of years teaching
C41: 0 to 5 | D41: ='data-stem'!I337 -> 0.13846154 | E41: =D41 -> 0.13846154
C42: 6 to 10 | D42: ='data-stem'!I338 -> 0.21538462 | E42: =D42 -> 0.21538462
C43: 11 to 15 | D43: ='data-stem'!I339 -> 0.13846154 | E43: =D43 -> 0.13846154
C44: 16 to 20 | D44: ='data-stem'!I340 -> 0.16923077 | E44: =D44 -> 0.16923077
C45: 21 to 25 | D45: ='data-stem'!I341 -> 0.076923077 | E45: =D45 -> 0.076923077
C46: 26+ | D46: ='data-stem'!I342 -> 0.26153846 | E46: =D46 -> 0.26153846
B48: Teaching status
C49: Part time | D49: ='data-stem'!J337 -> 0.61538462 | E49: =D49 -> 0.61538462
C50: Full time | D50: ='data-stem'!J338 -> 0.38461538 | E50: =D50 -> 0.38461538
B53: Division | D53: Count | E53: Percent
C54: Arts, communications, hospitality | D54: ='data-stem'!K323 -> 0 | E54: ='data-stem'!K337 -> 0 | F54: =E54 -> 0
C55: Business and applied technology | D55: ='data-stem'!K324 -> 0 | E55: ='data-stem'!K338 -> 0 | F55: =E55 -> 0
...

Sheet SBS
C1: Social and behavioral sciences | D1: ='data-sbs'!K332 -> 34 | E1: respondents
B5: In order to help us understand your instructional style, please use the sliders below to indicate where your instructional tendencies and preferences fall on these dimensions.
I7: Preference for lecture to deliver content
D8: Min | E8: Max | F8: Mean | G8: Median | I8: 0%-19% | J8: ='data-sbs'!B315 -> 0.0625 | K8: =J8 -> 0.0625
C9: Preference for lecture to deliver content (select numbers closer to 0) | D9: ='data-sbs'!B413 -> 5 | E9: ='data-sbs'!B414 -> 100 | F9: ='data-sbs'!B415 -> 58.09375 | G9: ='data-sbs'!B416 -> 49 | I9: 20%-39% | J9: ='data-sbs'!B316 -> 0.28125 | K9: =J9 -> 0.28125
C10: Preference for facilitated exploration of content (select numbers closer to 100) | I10: 40%-59% | J10: ='data-sbs'!B317 -> 0.1875 | K10: =J10 -> 0.1875
I11: 60%-79% | J11: ='data-sbs'!B318 -> 0.09375 | K11: =J11 -> 0.09375
I12: 80%-100% | J12: ='data-sbs'!B319 -> 0.375 | K12: =J12 -> 0.375
I13: Preference for facilitated exploration of content
D16: Min | E16: Max | F16: Mean | G16: Median | I16: Prefer print materials
C17: Prefer print materials (select numbers closer to 0) | D17: ='data-sbs'!C413 -> 0 | E17: ='data-sbs'!C414 -> 100 | F17: ='data-sbs'!C415 -> 53.714286 | G17: ='data-sbs'!C416 -> 49.5 | I17: 0%-19% | J17: ='data-sbs'!C315 -> 0.14285714 | K17: =J17 -> 0.14285714
C18: Prefer digital materials (select numbers closer to 100) | I18: 20%-39% | J18: ='data-sbs'!C316 -> 0.17857143 | K18: =J18 -> 0.17857143
I19: 40%-59% | J19: ='data-sbs'!C317 -> 0.28571429 | K19: =J19 -> 0.28571429
I20: 60%-79% | J20: ='data-sbs'!C318 -> 0.14285714 | K20: =J20 -> 0.14285714
I21: 80%-100% | J21: ='data-sbs'!C319 -> 0.25 | K21: =J21 -> 0.25
I22: Prefer digital materials
B26: Please let us know if you agree or disagree with the following.
D27: Strongly agree | E27: Agree | F27: Somewhat agree | G27: Neither | H27: Somewhat disagree | I27: Disagree | J27: Strongly disagree
C28: My students prefer print materials over digital | D28: ='data-sbs'!D$337 -> 0.058823529 | E28: ='data-sbs'!D$338 -> 0.14705882 | F28: ='data-sbs'!D$339 -> 0.35294118 | G28: ='data-sbs'!D$340 -> 0.29411765 | H28: ='data-sbs'!D$341 -> 0.11764706 | I28: ='data-sbs'!D$342 -> 0 | J28: ='data-sbs'!D$343 -> 0.029411765
C29: The cost of the course materials is a serious problem for my students | D29: ='data-sbs'!E$337 -> 0.5 | E29: ='data-sbs'!E$338 -> 0.26470588 | F29: ='data-sbs'!E$339 -> 0.17647059 | G29: ='data-sbs'!E$340 -> 0.058823529 | H29: ='data-sbs'!E$341 -> 0 | I29: ='data-sbs'!E$342 -> 0 | J29: ='data-sbs'!E$343 -> 0
C30: There is a lack of high-quality course materials for the courses I teach | D30: ='data-sbs'!F$337 -> 0 | E30: ='data-sbs'!F$338 -> 0.058823529 | F30: ='data-sbs'!F$339 -> 0.058823529 | G30: ='data-sbs'!F$340 -> 0.23529412 | H30: ='data-sbs'!F$341 -> 0.14705882 | I30: ='data-sbs'!F$342 -> 0.38235294 | J30: ='data-sbs'!F$343 -> 0.11764706
C31: The use of electronic devices in class by students is a distraction from learning | D31: ='data-sbs'!G$337 -> 0.14705882 | E31: ='data-sbs'!G$338 -> 0.14705882 | F31: ='data-sbs'!G$339 -> 0.23529412 | G31: ='data-sbs'!G$340 -> 0.14705882 | H31: ='data-sbs'!G$341 -> 0.17647059 | I31: ='data-sbs'!G$342 -> 0.058823529 | J31: ='data-sbs'!G$343 -> 0.088235294
B34: Tenure | C34: N/A | D34: ='data-sbs'!H337 -> 0.029411765 | E34: =D34 -> 0.029411765
C35: Tenured | D35: ='data-sbs'!H338 -> 0.61764706 | E35: =D35 -> 0.61764706
C36: Tenure track, not tenured | D36: ='data-sbs'!H339 -> 0.029411765 | E36: =D36 -> 0.029411765
C37: Not tenure track | D37: ='data-sbs'!H340 -> 0.32352941 | E37: =D37 -> 0.32352941
D38: =SUM(D34:D37) -> 1
B40: Number of years teaching
C41: 0 to 5 | D41: ='data-sbs'!I337 -> 0.20588235 | E41: =D41 -> 0.20588235
C42: 6 to 10 | D42: ='data-sbs'!I338 -> 0.17647059 | E42: =D42 -> 0.17647059
C43: 11 to 15 | D43: ='data-sbs'!I339 -> 0.29411765 | E43: =D43 -> 0.29411765
C44: 16 to 20 | D44: ='data-sbs'!I340 -> 0.14705882 | E44: =D44 -> 0.14705882
C45: 21 to 25 | D45: ='data-sbs'!I341 -> 0.088235294 | E45: =D45 -> 0.088235294
C46: 26+ | D46: ='data-sbs'!I342 -> 0.088235294 | E46: =D46 -> 0.088235294
B48: Teaching status
C49: Part time | D49: ='data-sbs'!J337 -> 0.38235294 | E49: =D49 -> 0.38235294
C50: Full time | D50: ='data-sbs'!J338 -> 0.61764706 | E50: =D50 -> 0.61764706
B53: Division | D53: Count | E53: Percent
C54: Arts, communications, hospitality | D54: ='data-sbs'!K323 -> 0 | E54: ='data-sbs'!K337 -> 0 | F54: =E54 -> 0
C55: Business and applied technology | D55: ='data-sbs'!K324 -> 0 | E55: ='data-sbs'!K338 -> 0 | F55: =E55 -> 0
...

Sheet Library
C1: Library | D1: ='data-library'!K332 -> 5 | E1: respondents
B5: In order to help us understand your instructional style, please use the sliders below to indicate where your instructional tendencies and preferences fall on these dimensions.
I7: Preference for lecture to deliver content
D8: Min | E8: Max | F8: Mean | G8: Median | I8: 0%-19% | J8: ='data-library'!B315 -> 0 | K8: =J8 -> 0
C9: Preference for lecture to deliver content (select numbers closer to 0) | D9: ='data-library'!B413 -> 54 | E9: ='data-library'!B414 -> 88 | F9: ='data-library'!B415 -> 74.666667 | G9: ='data-library'!B416 -> 82 | I9: 20%-39% | J9: ='data-library'!B316 -> 0 | K9: =J9 -> 0
C10: Preference for facilitated exploration of content (select numbers closer to 100) | I10: 40%-59% | J10: ='data-library'!B317 -> 0.33333333 | K10: =J10 -> 0.33333333
I11: 60%-79% | J11: ='data-library'!B318 -> 0 | K11: =J11 -> 0
I12: 80%-100% | J12: ='data-library'!B319 -> 0.66666667 | K12: =J12 -> 0.66666667
I13: Preference for facilitated exploration of content
D16: Min | E16: Max | F16: Mean | G16: Median | I16: Prefer print materials
C17: Prefer print materials (select numbers closer to 0) | D17: ='data-library'!C413 -> 5 | E17: ='data-library'!C414 -> 83 | F17: ='data-library'!C415 -> 47.4 | G17: ='data-library'!C416 -> 44 | I17: 0%-19% | J17: ='data-library'!C315 -> 0.2 | K17: =J17 -> 0.2
C18: Prefer digital materials (select numbers closer to 100) | I18: 20%-39% | J18: ='data-library'!C316 -> 0.2 | K18: =J18 -> 0.2
I19: 40%-59% | J19: ='data-library'!C317 -> 0.2 | K19: =J19 -> 0.2
I20: 60%-79% | J20: ='data-library'!C318 -> 0.2 | K20: =J20 -> 0.2
I21: 80%-100% | J21: ='data-library'!C319 -> 0.2 | K21: =J21 -> 0.2
I22: Prefer digital materials
B26: Please let us know if you agree or disagree with the following.
D27: Strongly agree | E27: Agree | F27: Somewhat agree | G27: Neither | H27: Somewhat disagree | I27: Disagree | J27: Strongly disagree
C28: My students prefer print materials over digital | D28: ='data-library'!D$337 -> 0 | E28: ='data-library'!D$338 -> 0.2 | F28: ='data-library'!D$339 -> 0 | G28: ='data-library'!D$340 -> 0.4 | H28: ='data-library'!D$341 -> 0.2 | I28: ='data-library'!D$342 -> 0 | J28: ='data-library'!D$343 -> 0.2
C29: The cost of the course materials is a serious problem for my students | D29: ='data-library'!E$337 -> 0.6 | E29: ='data-library'!E$338 -> 0.2 | F29: ='data-library'!E$339 -> 0 | G29: ='data-library'!E$340 -> 0 | H29: ='data-library'!E$341 -> 0.2 | I29: ='data-library'!E$342 -> 0 | J29: ='data-library'!E$343 -> 0
C30: There is a lack of high-quality course materials for the courses I teach | D30: ='data-library'!F$337 -> 0 | E30: ='data-library'!F$338 -> 0 | F30: ='data-library'!F$339 -> 0.4 | G30: ='data-library'!F$340 -> 0.6 | H30: ='data-library'!F$341 -> 0 | I30: ='data-library'!F$342 -> 0 | J30: ='data-library'!F$343 -> 0
C31: The use of electronic devices in class by students is a distraction from learning | D31: ='data-library'!G$337 -> 0 | E31: ='data-library'!G$338 -> 0.2 | F31: ='data-library'!G$339 -> 0 | G31: ='data-library'!G$340 -> 0.2 | H31: ='data-library'!G$341 -> 0.4 | I31: ='data-library'!G$342 -> 0 | J31: ='data-library'!G$343 -> 0.2
B34: Tenure | C34: N/A | D34: ='data-library'!H337 -> 0 | E34: =D34 -> 0
C35: Tenured | D35: ='data-library'!H338 -> 0.4 | E35: =D35 -> 0.4
C36: Tenure track, not tenured | D36: ='data-library'!H339 -> 0 | E36: =D36 -> 0
C37: Not tenure track | D37: ='data-library'!H340 -> 0.6 | E37: =D37 -> 0.6
D38: =SUM(D34:D37) -> 1
B40: Number of years teaching
C41: 0 to 5 | D41: ='data-library'!I337 -> 0.6 | E41: =D41 -> 0.6
C42: 6 to 10 | D42: ='data-library'!I338 -> 0 | E42: =D42 -> 0
C43: 11 to 15 | D43: ='data-library'!I339 -> 0.2 | E43: =D43 -> 0.2
C44: 16 to 20 | D44: ='data-library'!I340 -> 0.2 | E44: =D44 -> 0.2
C45: 21 to 25 | D45: ='data-library'!I341 -> 0 | E45: =D45 -> 0
C46: 26+ | D46: ='data-library'!I342 -> 0 | E46: =D46 -> 0
B48: Teaching status
C49: Part time | D49: ='data-library'!J337 -> 0.6 | E49: =D49 -> 0.6
C50: Full time | D50: ='data-library'!J338 -> 0.4 | E50: =D50 -> 0.4
B53: Division | D53: Count | E53: Percent
C54: Arts, communications, hospitality | D54: ='data-library'!K323 -> 0 | E54: ='data-library'!K337 -> 0 | F54: =E54 -> 0
C55: Business and applied technology | D55: ='data-library'!K324 -> 0 | E55: ='data-library'!K338 -> 0 | F55: =E55 -> 0
...

Sheet CA
C1: Counseling and advising | D1: ='data-ca'!K332 -> 4 | E1: respondents
B5: In order to help us understand your instructional style, please use the sliders below to indicate where your instructional tendencies and preferences fall on these dimensions.
I7: Preference for lecture to deliver content
D8: Min | E8: Max | F8: Mean | G8: Median | I8: 0%-19% | J8: ='data-ca'!B315 -> 0 | K8: =J8 -> 0
C9: Preference for lecture to deliver content (select numbers closer to 0) | D9: ='data-ca'!B413 -> 60 | E9: ='data-ca'!B414 -> 95 | F9: ='data-ca'!B415 -> 73.5 | G9: ='data-ca'!B416 -> 69.5 | I9: 20%-39% | J9: ='data-ca'!B316 -> 0 | K9: =J9 -> 0
C10: Preference for facilitated exploration of content (select numbers closer to 100) | I10: 40%-59% | J10: ='data-ca'!B317 -> 0 | K10: =J10 -> 0
I11: 60%-79% | J11: ='data-ca'!B318 -> 0.75 | K11: =J11 -> 0.75
I12: 80%-100% | J12: ='data-ca'!B319 -> 0.25 | K12: =J12 -> 0.25
I13: Preference for facilitated exploration of content
D16: Min | E16: Max | F16: Mean | G16: Median | I16: Prefer print materials
C17: Prefer print materials (select numbers closer to 0) | D17: ='data-ca'!C413 -> 55 | E17: ='data-ca'!C414 -> 90 | F17: ='data-ca'!C415 -> 76.5 | G17: ='data-ca'!C416 -> 80.5 | I17: 0%-19% | J17: ='data-ca'!C315 -> 0 | K17: =J17 -> 0
C18: Prefer digital materials (select numbers closer to 100) | I18: 20%-39% | J18: ='data-ca'!C316 -> 0 | K18: =J18 -> 0
I19: 40%-59% | J19: ='data-ca'!C317 -> 0.25 | K19: =J19 -> 0.25
I20: 60%-79% | J20: ='data-ca'!C318 -> 0.25 | K20: =J20 -> 0.25
I21: 80%-100% | J21: ='data-ca'!C319 -> 0.5 | K21: =J21 -> 0.5
I22: Prefer digital materials
B26: Please let us know if you agree or disagree with the following.
D27: Strongly agree | E27: Agree | F27: Somewhat agree | G27: Neither | H27: Somewhat disagree | I27: Disagree | J27: Strongly disagree
C28: My students prefer print materials over digital | D28: ='data-ca'!D$337 -> 0 | E28: ='data-ca'!D$338 -> 0 | F28: ='data-ca'!D$339 -> 0.5 | G28: ='data-ca'!D$340 -> 0.25 | H28: ='data-ca'!D$341 -> 0.25 | I28: ='data-ca'!D$342 -> 0 | J28: ='data-ca'!D$343 -> 0
C29: The cost of the course materials is a serious problem for my students | D29: ='data-ca'!E$337 -> 0.5 | E29: ='data-ca'!E$338 -> 0.25 | F29: ='data-ca'!E$339 -> 0.25 | G29: ='data-ca'!E$340 -> 0 | H29: ='data-ca'!E$341 -> 0 | I29: ='data-ca'!E$342 -> 0 | J29: ='data-ca'!E$343 -> 0
C30: There is a lack of high-quality course materials for the courses I teach | D30: ='data-ca'!F$337 -> 0 | E30: ='data-ca'!F$338 -> 0.5 | F30: ='data-ca'!F$339 -> 0.25 | G30: ='data-ca'!F$340 -> 0 | H30: ='data-ca'!F$341 -> 0 | I30: ='data-ca'!F$342 -> 0.25 | J30: ='data-ca'!F$343 -> 0
C31: The use of electronic devices in class by students is a distraction from learning | D31: ='data-ca'!G$337 -> 0 | E31: ='data-ca'!G$338 -> 0.5 | F31: ='data-ca'!G$339 -> 0.25 | G31: ='data-ca'!G$340 -> 0.25 | H31: ='data-ca'!G$341 -> 0 | I31: ='data-ca'!G$342 -> 0 | J31: ='data-ca'!G$343 -> 0
B34: Tenure | C34: N/A | D34: ='data-ca'!H337 -> 0 | E34: =D34 -> 0
C35: Tenured | D35: ='data-ca'!H338 -> 0.25 | E35: =D35 -> 0.25
C36: Tenure track, not tenured | D36: ='data-ca'!H339 -> 0.5 | E36: =D36 -> 0.5
C37: Not tenure track | D37: ='data-ca'!H340 -> 0.25 | E37: =D37 -> 0.25
D38: =SUM(D34:D37) -> 1
B40: Number of years teaching
C41: 0 to 5 | D41: ='data-ca'!I337 -> 0.5 | E41: =D41 -> 0.5
C42: 6 to 10 | D42: ='data-ca'!I338 -> 0 | E42: =D42 -> 0
C43: 11 to 15 | D43: ='data-ca'!I339 -> 0 | E43: =D43 -> 0
C44: 16 to 20 | D44: ='data-ca'!I340 -> 0.25 | E44: =D44 -> 0.25
C45: 21 to 25 | D45: ='data-ca'!I341 -> 0.25 | E45: =D45 -> 0.25
C46: 26+ | D46: ='data-ca'!I342 -> 0 | E46: =D46 -> 0
B48: Teaching status
C49: Part time | D49: ='data-ca'!J337 -> 0 | E49: =D49 -> 0
C50: Full time | D50: ='data-ca'!J338 -> 1 | E50: =D50 -> 1
B53: Division | D53: Count | E53: Percent
C54: Arts, communications, hospitality | D54: ='data-ca'!K323 -> 0 | E54: ='data-ca'!K337 -> 0 | F54: =E54 -> 0
C55: Business and applied technology | D55: ='data-ca'!K324 -> 0 | E55: ='data-ca'!K338 -> 0 | F55: =E55 -> 0
...

Sheet Follow-up
A1: May we contact you with follow-up questions?
A2: ajinthd@cod.edu
A3: alaksn@cod.edu
A4: alfordb777@cod.edu
A5: allard@cod.edu
A6: allenj@cod.edu
A7: alvinj193@cod.edu
A8: arankij@cod.edu
A9: arroyot@cod.edu
A10: baileyc105@cod.edu
A11: browns109@cod.edu
A12: brzuszkiewicza@cod.edu
... A157: zawlockia@cod.edu

Sheet Data
A1: RecordedDate | B1: slider_lecture_1 | C1: slider_print_1 | D1: Opinions_1 | E1: Opinions_2 | F1: Opinions_3 | G1: Opinions_4 | H1: tenure_1_1 | I1: tenure_2_1 | J1: tenure_3_1 | K1: Division | L1: ACH | M1: BTEC | N1: CE | O1: LA | P1: NHS | Q1: STEM | R1: HSB | S1: onlineHW | T1: WhichHW_1 | U1: WhichHW_19 | V1: WhichHW_20 | W1: WhichHW_21 | X1: WhichHW_22 | Y1: WhichHW_23 | Z1: WhichHW_24 | AA1: WhichHW_25 | AB1: WhichHW_26 | AC1: WhichHW_27 | AD1: WhichHW_28 | AE1: WhichHW_29 | AF1: WhichHW_30 | AG1: WhichHW_31 | AH1: WhichHW_32 | AI1: WhichHW_33 | AJ1: WhichHW_4 | AK1: WhichHW_4_TEXT | AL1: Inclusive | AM1: crstaught | AN1: Q102 | AO1: Q101 | AP1: whatreq_1_1 | AQ1: whatreq_1_2 | AR1: whatreq_1_3 | AS1: whatreq_2_1 | AT1: whatreq_2_2 | AU1: whatreq_2_3 | AV1: whatreq_3_1 | AW1: whatreq_3_2 | AX1: whatreq_3_3 | AY1: whatreq_4_1 | AZ1: whatreq_4_2 | BA1: whatreq_4_3 | BB1: whatreq_5_1 | BC1: whatreq_5_2 | BD1: whatreq_5_3 | BE1: whatreq_6_1 | BF1: whatreq_6_2 | BG1: whatreq_6_3 | BH1: whatreq_7_1 | BI1: whatreq_7_2 | BJ1: whatreq_7_3 | BK1: whatreq_7_TEXT | BL1: Format | BM1: Format_5_TEXT | BN1: textformat_1 | BO1: textformat_2 | BP1: textformat_3 | BQ1: textformat_5 | BR1: textformat_5_TEXT | BS1: ProPurchase_1 | BT1: Reason_1 | BU1: Reason_2 | BV1: Reason_3 | BW1: Cost_1_1_1 | BX1: Cost_2_1_1 | BY1: Cost_3_1_1 | BZ1: Cost_4_1_1 | CA1: Cost_5_1 | CB1: Used_1 | CC1: Used_2 | CD1: Used_3 | CE1: Used_5 | CF1: Used_9 | CG1: Used_10 | CH1: Used_11 | CI1: Used_6 | CJ1: Used_6_TEXT | CK1: Cost_text | CL1: License_1_1 | CM1: License_1_2 | CN1: License_1_3 | CO1: License_1_4 | CP1: License_2_1 | CQ1: License_2_2 | CR1: License_2_3 | CS1: License_2_4 | CT1: TextSat | CU1: SatFactor_1 | CV1: SatFactor_2 | CW1: SatFactor_3 | CX1: SatFactor_4 | CY1: SatFactor_5 | CZ1: SatFactor_6 | DA1: SatFactor_7 | DB1: SatFactor_8 | DC1: SatFactor_9 | DD1: TextChanges_36 | DE1: TextChanges_39 | DF1: TextChanges_42 | DG1: TextChanges_57 | DH1: TextChanges_49 | DI1: TextChanges_53 | DJ1: TextChanges_54 | DK1: TextChanges_55 | DL1: TextChanges_55_TEXT | DM1: Q98 | DN1: Q99 | DO1: CCaware_1 | DP1: CCaware_2 | DQ1: CCaware_3 | DR1: OERaware | DS1: OERuse_1_1 | DT1: OERuse_1_2 | DU1: OERuse_1_3 | DV1: OERInit_1 | DW1: OERInit_6 | DX1: OERInit_4 | DY1: OERInit_5 | DZ1: OERInit_7 | EA1: CostInit_1 | EB1: CostInit_6 | EC1: CostInit_4 | ED1: CostInit_5 | EE1: CostInit_7 | EF1: OER3yr | EG1: comment | EH1: Quote | EI1: Recont
A2: 43559.434 | B2: 73 | C2: 80 | D2: 3 | E2: 1 | F2: 3 | G2: 4 | H2: 2 | I2: 4 | J2: 2 | K2: 2 | M2: 4 | S2: 1 | X2: 1 | AB2: 1 | AF2: 1 | AL2: 3 | AM2: 7 | AP2: 1 | AS2: 1 | AW2: 1 | AY2: 1 | BD2: 1 | BF2: 1 | BI2: 1 | BL2: 2 | BP2: 1 | BS2: 64 | BW2: 350 | BX2: 250 | BY2: 50 | BZ2: 50 | CD2: 1 | CH2: 1 | CL2: 1 | CP2: 1 | CT2: 14 | CU2: 15 | CV2: 14 | CW2: 13 | CX2: 15 | CY2: 14 | CZ2: 14 | DA2: 14 | DB2: 13 | DC2: 14 | DE2: 1 | DG2: 1 | DM2: Excellent current examples. | DN2: Excess meaningless wording. | DO2: 7 | DP2: 8 | DQ2: 6 | DR2: 7 | DY2: 1 | ED2: 1 | EF2: 3 | EH2: 1 | EI2: 1
A3: 43559.518 | B3: 74 | C3: 11 | D3: 3 | E3: 2 | F3: 6 | G3: 5 | H3: 1 | I3: 1 | J3: 2 | K3: 1 | L3: 2 | S3: 1 | Z3: 1 | AB3: 1 | AC3: 1 | AL3: 3 | AM3: 8 | AP3: 1 | AU3: 1 | AW3: 1 | AZ3: 1 | BC3: 1 | BF3: 1 | BJ3: 1 | BL3: 5 | BM3: 5 | BN3: 1 | BS3: 65 | BT3: 1 | BU3: 2 | BV3: 3 | BW3: 300 | BX3: 200 | BY3: 50 | BZ3: 0 | CB3: 1 | CF3: 1 | CH3: 1 | CL3: 1 | CP3: 1 | CT3: 17 | CU3: 14 | CV3: 14 | CW3: 14 | CX3: 14 | CY3: 14 | CZ3: 14 | DA3: 14 | DB3: 14 | DC3: 14 | DE3: 1 | DM3: None | DN3: None | DO3: 7 | DP3: 8 | DQ3: 7 | DR3: 6 | DT3: 1 | DY3: 1 | ED3: 1 | EH3: 2 | EI3: 2
A4: 43559.534 | B4: 5 | C4: 11 | D4: 3 | E4: 1 | F4: 5 | G4: 3 | H4: 2 | I4: 5 | J4: 2 | K4: 7 | S4: 2 | AL4: 3 | AM4: 5 | AP4: 1 | BL4: 1 | BO4: 1 | BS4: 96 | BT4: 3 | BU4: 1 | BV4: 2 | BW4: 150 | BY4: 0 | CH4: 1 | CL4: 1 | CR4: 1 | CT4: 15 | CU4: 13 | CW4: 14 | CX4: 14 | DA4: 14 | DB4: 14 | DC4: 16 | DD4: 1 | DM4: free open source | DN4: will it be updated? | DO4: 8 | DP4: 8 | DQ4: 8 | DR4: 7 | DS4: 1 | DY4: 1 | ED4: 1 | EH4: 2 | EI4: 2
A5: 43559.593 | B5: 80 | C5: 20 | D5: 4 | E5: 1 | F5: 4 | G5: 2 | H5: 4 | I5: 3 | J5: 1 | K5: 1 | L5: 13 | S5: 4 | AL5: 5 | AM5: 1 | AP5: 1 | AU5: 1 | AX5: 1 | BA5: 1 | BD5: 1 | BG5: 1 | BJ5: 1 | BL5: 1 | BN5: 1 | BS5: 80 | BT5: 1 | BU5: 2 | BV5: 3 | BW5: 35 | CG5: 1 | CL5: 1 | CT5: 15 | CU5: 14 | CV5: 14 | CW5: 16 | CX5: 16 | CY5: 14 | CZ5: 14 | DA5: 14 | DB5: 14 | DC5: 14 | DD5: 1 | DE5: 1 | DF5: 1 | DG5: 1 | DH5: 1 | DO5: 7 | DP5: 7 | DQ5: 7 | DR5: 7 | DU5: 1 | DY5: 1 | ED5: 1 | EF5: 3 | EH5: 2 | EI5: 1
A6: 43559.597 | B6: 100 | C6: 61 | D6: 2 | E6: 1 | F6: 7 | G6: 3 | H6: 2 | I6: 6 | J6: 2 | K6: 4 | O6: 4 | S6: 2 | AL6: 2 | AM6: 6 | AP6: 1 | AU6: 1 | AX6: 1 | BA6: 1 | BD6: 1 | BG6: 1 | BJ6: 1 | BL6: 1 | BN6: 1 | BO6: 1 | BP6: 1 | BS6: 71 | BW6: 125 | BX6: 75 | BY6: 35 | BZ6: 25 | CC6: 1 | CD6: 1 | CF6: 1 | CG6: 1 | CL6: 1 | CP6: 1 | CT6: 13 | CU6: 16 | CV6: 13 | CW6: 16 | CX6: 16 | DA6: 13 | DB6: 13 | DC6: 13 | DD6: 1 | DE6: 1 | DG6: 1 | DM6: student friendly, excellent writing, well organized | DN6: cost | DO6: 8 | DP6: 8 | DQ6: 8 | DR6: 6 | DS6: 1 | DV6: 1 | EA6: 1 | EH6: 1 | EI6: 1
A7: 43573.402 | B7: 75 | C7: 0 | D7: 1 | E7: 1 | F7: 1 | G7: 1 | H7: 2 | I7: 4 | J7: 2 | K7: 1 | L7: 2 | S7: 4 | AL7: 4 | AM7: 8 | AP7: 1 | AU7: 1 | AX7: 1 | AY7: 1 | BD7: 1 | BE7: 1 | BH7: 1 | BL7: 1 | BN7: 1 | BO7: 1 | BS7: 41 | BT7: 1 | BU7: 3 | BV7: 2 | BW7: 100 | BX7: 50 | BY7: 20 | BZ7: 1 | CB7: 1 | CC7: 1 | CD7: 1 | CH7: 1 | CL7: 1 | CP7: 1 | CT7: 15 | CU7: 15 | CV7: 15 | CW7: 16 | CX7: 13 | CZ7: 13 | DA7: 16 | DB7: 16 | DC7: 13 | DH7: 1 | DO7: 7 | DP7: 7 | DQ7: 5 | DR7: 10 | DU7: 1 | DV7: 1 | EA7: 1 | EF7: 4 | EH7: 1 | EI7: 1
A8: 43585.597 | D8: 7 | E8: 3 | F8: 3 | G8: 5 | H8: 1 | I8: 1 | J8: 2 | K8: 2 | M8: 2 | S8: 3 | AL8: 1 | AM8: 6 | AN8: 1 | AP8: 1 | AU8: 1 | AX8: 1 | BA8: 1 | BD8: 1 | BG8: 1 | BJ8: 1 | BL8: 2 | BO8: 1 | BQ8: 1 | BS8: 57 | BT8: 2 | BU8: 1 | BV8: 3 | CA8: 1 | CB8: 1 | CE8: 1 | CL8: 1 | CP8: 1 | CT8: 15 | CU8: 15 | CW8: 13 | CX8: 14 | CY8: 13 | CZ8: 16 | DA8: 16 | DB8: 15 | DC8: 14 | DE8: 1 | DG8: 1 | DH8: 1 | DO8: 7 | DP8: 7 | DQ8: 7 | DR8: 9 | DS8: 1 | DX8: 1 | EC8: 1 | EH8: 1 | EI8: 1
A9: 43585.605 | B9: 93 | D9: 5 | E9: 1 | F9: 2 | G9: 4 | H9: 1 | I9: 4 | J9: 1 | K9: 4 | O9: 3 | S9: 3 | AL9: 3 | AM9: 6 | AN9: 1 | AP9: 1 | AU9: 1 | AV9: 1 | AY9: 1 | BD9: 1 | BG9: 1 | BJ9: 1 | BL9: 1 | BN9: 1 | BO9: 1 | BP9: 1 | BS9: 87 | CA9: 1 | CC9: 1 | CD9: 1 | CF9: 1 | CL9: 1 | CP9: 1 | CT9: 18 | CU9: 15 | CV9: 15 | CW9: 15 | CX9: 15 | CY9: 16 | CZ9: 16 | DA9: 15 | DB9: 16 | DC9: 16 | DD9: 1 | DE9: 1 | DF9: 1 | DG9: 1 | DJ9: 1 | DO9: 8 | DP9: 8 | DQ9: 5 | DR9: 10 | DV9: 1 | EA9: 1 | EF9: 7 | EH9: 2 | EI9: 2
A10: 43585.606 | B10: 85 | C10: 96 | D10: 6 | E10: 6 | F10: 2 | G10: 3 | H10: 4 | I10: 3 | J10: 1 | K10: 2 | M10: 12 | S10: 2 | AL10: 2 | AM10: 5 | AN10: 1 | AO10: MANUF 2201 | AR10: 1 | AU10: 1 | AX10: 1 | AY10: 1 | BC10: 1 | BE10: 1 | BI10: 1 | CK10: On average 1 out of 20 students try to avoid buying a book because of cost. | DM10: Lots of good examples. | DN10: No online learning option. | DO10: 8 | DP10: 8 | DQ10: 7 | DR10: 10 | DV10: 1 | EE10: 1 | EF10: 4 | EH10: 1 | EI10: 2
A11: 43585.608 | B11: 20 | C11: 100 | D11: 2 | E11: 2 | F11: 3 | G11: 7 | H11: 1 | I11: 1 | J11: 1 | K11: 1 | L11: 6 | S11: 3 | AL11: 3 | AM11: 6 | AN11: 1 | AO11: GD2200, GD2202 | AP11: 1 | AU11: 1 | AX11: 1 | BA11: 1 | BD11: 1 | BG11: 1 | BJ11: 1 | BL11: 1 | BN11: 1 | BO11: 1 | BS11: 80 | BT11: 1 | BU11: 3 | BV11: 2 | BW11: 30 | BX11: 20 | BY11: 20 | CF11: 1 | CL11: 1 | CP11: 1 | CT11: 13 | CU11: 14 | CV11: 14 | CW11: 14 | CX11: 14 | CY11: 14 | CZ11: 16 | DA11: 14 | DB11: 14 | DC11: 16 | DE11: 1 | DF11: 1 | DM11: Well written and organized | DN11: Not up-to-date | DO11: 7 | DP11: 7 | DQ11: 7 | DR11: 8 | DU11: 1 | DV11: 1 | EA11: 1 | EF11: 4 | EH11: 1 | EI11: 1
A12: 43585.611 | B12: 19 | C12: 4 | D12: 3 | E12: 2 | F12: 6 | G12: 3 | H12: 4 | I12: 6 | J12: 1 | K12: 2 | M12: 1 | S12: 1 | V12: 1 | W12: 1 | AB12: 1 | AH12: 1 | AL12: 3 | AM12: 8 | AN12: 1 | AO12: ACCOU-2140 | AP12: 1 | AS12: 1 | AX12: 1 | AY12: 1 | BB12: 1 | BE12: 1 | BI12: 1 | BL12: 1 | BN12: 1 | BP12: 1 | BS12: 100 | CA12: 1 | CK12: The costs are too high | CL12: 1 | CT12: 15 | CU12: 16 | CV12: 14 | CW12: 13 | CX12: 14 | CY12: 15 | CZ12: 14 | DA12: 14 | DB12: 14 | DC12: 14 | DI12: 1 | DM12: The end of chapter exercises and problems are good | DN12: Visuals in the textbook are not at all realistic | DO12: 5 | DP12: 7 | DQ12: 5 | DR12: 7 | DU12: 1 | DV12: 1 | EA12: 1 | EF12: 5 | EH12: 1 | EI12: 2
A13: 43585.611 | B13: 82 | C13: 95 | D13: 6 | E13: 2 | F13: 6 | G13: 7 | H13: 4 | I13: 3 | J13: 1 | K13: 4 | O13: 4 | S13: 4 | AL13: 4 | AM13: 5 | AN13: 1 | AQ13: 1 | AU13: 1 | AX13: 1 | AZ13: 1 | BD13: 1 | BG13: 1 | BJ13: 1 | DM13: Diversity of content | DN13: No models of proper writing | DO13: 8 | DP13: 8 | DQ13: 8 | DR13: 7 | DU13: 1 | DV13: 1 | EC13: 1 | EF13: 4 | EH13: 1 | EI13: 2
A14: 43585.611 | B14: 17 | C14: 25 | D14: 2 | E14: 3 | F14: 5 | G14: 1 | H14: 4 | I14: 1 | J14: 1 | K14: 6 | Q14: 1 | S14: 1 | Z14: 1 | AL14: 4 | AM14: 5 | AN14: 1 | AP14: 1 | AS14: 1 | AX14: 1 | AZ14: 1 | BD14: 1 | BG14: 1 | BJ14: 1 | BL14: 1 | BN14: 1 | BS14: 90 | BT14: 1 | BU14: 2 | BV14: 3 | BW14: 125 | BX14: 80 | BY14: 40 | CD14: 1 | CT14: 14 | CU14: 14 | CV14: 15 | CW14: 14 | CX14: 14 | CY14: 14 | CZ14: 14 | DA14: 14 | DB14: 14 | DC14: 14 | DD14: 1 | DE14: 1 | DJ14: 1 | DO14: 5 | DP14: 6 | DQ14: 5 | DR14: 8 | DV14: 1 | DZ14: 1 | EE14: 1 | EF14: 7 | EH14: 2 | EI14: 2
A15: 43585.613 | C15: 6 | D15: 4 | E15: 4 | F15: 4 | G15: 2 | H15: 1 | I15: 1 | J15: 1 | K15: 4 | O15: 3 | S15: 3 | AL15: 3 | AM15: 5 | AN15: 1 | AO15: MPTV | AQ15: 1 | AU15: 1 | AX15: 1 | AZ15: 1 | BB15: 1 | BF15: 1 | BH15: 1 | CK15: I recommend only books that students should keep for life and refer to in their careers | DM15: Removes all guessing. I recommend ap style book | DN15: Since it’s only recommended not everybody uses it | DO15: 8 | DP15: 8 | DQ15: 6 | DR15: 6 | DU15: 1 | DV15: 1 | EA15: 1 | EF15: 3 | EH15: 2 | EI15: 2
A16: 43585.614 | C16: 0 | D16: 3 | E16: 5 | F16: 7 | G16: 4 | J16: 1 | K16: 5 | P16: 5 | S16: 4 | AL16: 4 | AM16: 1 | AN16: 1 | AO16: 1105 BNA | AP16: 1 | AT16: 1 | AW16: 1 | BA16: 1 | BC16: 1 | BF16: 1 | BJ16: 1 | BL16: 1 | BN16: 1 | BS16: 100 | BW16: 160 | CI16: 1 | CJ16: No | CK16: Textbooks/ Workbook combined is a fair price | CL16: 1 | CM16: 1 | CT16: 13 | CU16: 13 | CV16: 13 | CW16: 13 | CX16: 13 | CY16: 13 | CZ16: 13 | DA16: 13 | DB16: 13 | DC16: 13 | DK16: 1 | DL16: None | DM16: Compatible with IDPH standards. | DN16: None | DO16: 7 | DP16: 7 | DQ16: 5 | DR16: 10 | DU16: 1 | DZ16: 1 | EE16: 1 | EF16: 6 | EG16: Textbooks and all teaching materials need to be approved by IDPH | EH16: 1 | EI16: 1
A17: 43585.614 | B17: 90 | C17: 90 | D17: 2 | E17: 2 | F17: 6 | G17: 6 | H17: 3 | I17: 1 | J17: 2 | K17: 7 | R17: 11 | S17: 2 | AL17: 4 | AM17: 8 | AN17: 2 | AO17: LIBRA 2200 Public Services | AP17: 1 | AU17: 1 | AV17: 1 | BA17: 1 | BB17: 1 | BE17: 1 | BJ17: 1 | BL17: 1 | BN17: 1 | BS17: 100 | BW17: 80 | BX17: 40 | CD17: 1 | CF17: 1 | CG17: 1 | CI17: 1 | CJ17: For some courses I have assigned weekly applicable artide readings from journals found in the COD Library databases. | CK17: For many of my students it is a barrier to registering for a course if the course textbook is over $100. | CL17: 1 | CT17: 15 | CU17: 16 | CV17: 14 | CW17: 16 | CX17: 16 | CY17: 16 | CZ17: 16 | DA17: 14 | DB17: 14 | DC17: 16 | DD17: 1 | DE17: 1 | DF17: 1 | DI17: 1 | DJ17: 1 | DM17: The textbook uses case studies from around the country. | DN17: It hasn't been updated in four years and technology has changed since the time of the original publication. | DO17: 8 | DP17: 8 | DQ17: 8 | DR17: 7 | DT17: 1 | DY17: 1 | ED17: 1 | EG17: I recently dropped three textbooks total in two different courses with full support from the program advisory committee. | EH17: 1 | EI17: 1
A18: 43585.615 | B18: 70 | C18: 32 | D18: 4 | E18: 2 | F18: 2 | G18: 2 | H18: 4 | I18: 3 | J18: 1 | K18: 5 | P18: 21 | S18: 4 | AL18: 4 | AM18: 8 | AN18: 1 | AP18: 1 | AU18: 1 | AV18: 1 | AZ18: 1 | BC18: 1 | BG18: 1 | BJ18: 1 | BL18: 2 | BN18: 1 | BO18: 1 | BP18: 1 | BS18: 88 | BT18: 1 | BU18: 2 | BV18: 3 | BW18: 120 | BX18: 80 | BY18: 80 | CF18: 1 | CL18: 1 | CP18: 1 | CT18: 14 | CU18: 15 | CV18: 14 | CW18: 14 | CX18: 16 | CY18: 15 | CZ18: 15 | DA18: 14 | DB18: 14 | DC18: 15 | DD18: 1 | DE18: 1 | DF18: 1 | DG18: 1 | DI18: 1 | DM18: readability | DN18: cost; lack of video content | DO18: 5 | DP18: 6 | DQ18: 5 | DR18: 10 | DU18: 1 | DV18: 1 | EA18: 1 | EF18: 7 | EH18: 1 | EI18: 2
